BEGIN:VCALENDAR
VERSION:2.0
PRODID:-//Executive Women&#039;s Forum - ECPv6.15.20//NONSGML v1.0//EN
CALSCALE:GREGORIAN
METHOD:PUBLISH
X-WR-CALNAME:Executive Women&#039;s Forum
X-ORIGINAL-URL:https://www.ewfglobal.com
X-WR-CALDESC:Events for Executive Women&#039;s Forum
REFRESH-INTERVAL;VALUE=DURATION:PT1H
X-Robots-Tag:noindex
X-PUBLISHED-TTL:PT1H
BEGIN:VTIMEZONE
TZID:America/Halifax
BEGIN:DAYLIGHT
TZOFFSETFROM:-0400
TZOFFSETTO:-0300
TZNAME:ADT
DTSTART:20250309T060000
END:DAYLIGHT
BEGIN:STANDARD
TZOFFSETFROM:-0300
TZOFFSETTO:-0400
TZNAME:AST
DTSTART:20251102T050000
END:STANDARD
BEGIN:DAYLIGHT
TZOFFSETFROM:-0400
TZOFFSETTO:-0300
TZNAME:ADT
DTSTART:20260308T060000
END:DAYLIGHT
BEGIN:STANDARD
TZOFFSETFROM:-0300
TZOFFSETTO:-0400
TZNAME:AST
DTSTART:20261101T050000
END:STANDARD
BEGIN:DAYLIGHT
TZOFFSETFROM:-0400
TZOFFSETTO:-0300
TZNAME:ADT
DTSTART:20270314T060000
END:DAYLIGHT
BEGIN:STANDARD
TZOFFSETFROM:-0300
TZOFFSETTO:-0400
TZNAME:AST
DTSTART:20271107T050000
END:STANDARD
END:VTIMEZONE
BEGIN:VTIMEZONE
TZID:America/New_York
BEGIN:DAYLIGHT
TZOFFSETFROM:-0500
TZOFFSETTO:-0400
TZNAME:EDT
DTSTART:20250309T070000
END:DAYLIGHT
BEGIN:STANDARD
TZOFFSETFROM:-0400
TZOFFSETTO:-0500
TZNAME:EST
DTSTART:20251102T060000
END:STANDARD
BEGIN:DAYLIGHT
TZOFFSETFROM:-0500
TZOFFSETTO:-0400
TZNAME:EDT
DTSTART:20260308T070000
END:DAYLIGHT
BEGIN:STANDARD
TZOFFSETFROM:-0400
TZOFFSETTO:-0500
TZNAME:EST
DTSTART:20261101T060000
END:STANDARD
BEGIN:DAYLIGHT
TZOFFSETFROM:-0500
TZOFFSETTO:-0400
TZNAME:EDT
DTSTART:20270314T070000
END:DAYLIGHT
BEGIN:STANDARD
TZOFFSETFROM:-0400
TZOFFSETTO:-0500
TZNAME:EST
DTSTART:20271107T060000
END:STANDARD
END:VTIMEZONE
BEGIN:VEVENT
DTSTART;TZID=America/Halifax:20260505T113000
DTEND;TZID=America/Halifax:20260505T123000
DTSTAMP:20260420T101136
CREATED:20260403T144845Z
LAST-MODIFIED:20260403T150044Z
UID:4608-1777980600-1777984200@www.ewfglobal.com
SUMMARY:Informational Webinar | Lift Mentoring Program
DESCRIPTION:Register\n\n\n\n\n\n\n \n	\n		\n						\n			\n			\n							The Lift Mentoring Program inspires our members to find encouragement and support; pursue their interests; define and achieve their career goals; and helps steer them through the challenges of work/life integration. In addition\, members will continue to build a trusted professional network. \nGoals Lift Mentoring Program: \n\nAccelerate our members success\nSharpen our members skills and presence while increasing your effectiveness and readiness for promotion\nPrepare our members to lead at all levels\nFoster one to one connections and relationships\nHarness the wealth of knowledge and experience of our community\nImpact the underrepresentation and underutilization of women in Information Security\, IT Risk Management and Privacy\n\nLift is a member-only program and requires a six month commitment.
URL:https://www.ewfglobal.com/event-details/informational-webinar-lift-mentoring-program-2/
CATEGORIES:Informational Webinar,Virtual
ATTACH;FMTTYPE=image/png:https://www.ewfglobal.com/wp-content/uploads/2025/08/11.6-EWF-Forums-CONNECT-Networking-Series-–-Senior-Leaders-Forum.png
END:VEVENT
BEGIN:VEVENT
DTSTART;TZID=America/New_York:20260520T150000
DTEND;TZID=America/New_York:20260520T160000
DTSTAMP:20260420T101136
CREATED:20260120T160332Z
LAST-MODIFIED:20260120T162213Z
UID:3865-1779289200-1779292800@www.ewfglobal.com
SUMMARY:EWF Community Onboarding Session
DESCRIPTION:Register\n\n\n\n\n\n\n \n	\n		\n						\n			\n			\n							Join the EWF Engagement Team for a dynamic onboarding session designed to help you make the most of your EWF membership!\nWhether you’re brand new to the EWF community or looking to deepen your involvement\, this interactive session will walk you through the full spectrum of membership benefits\, exclusive programs\, and networking opportunities available to you. You’ll learn how to navigate our platform\, connect with other members\, participate in both in person and virtual events\, and access our leadership development resources. \nCome with your questions and curiosity—we’re here to help you feel informed\, empowered\, and excited to engage with the EWF community! \nUnable to join us this month? No problem — this event happens monthly!  Click here to view future dates. \n\nAll attendees must be signed in to register; if you don’t have a membership seat\, you’re welcome to create a free guest account.
URL:https://www.ewfglobal.com/event-details/ewf-community-onboarding-session-8/
CATEGORIES:Informational Webinar,Networking,Virtual
ATTACH;FMTTYPE=image/png:https://www.ewfglobal.com/wp-content/uploads/2026/01/COB-1.png
END:VEVENT
END:VCALENDAR