BEGIN:VCALENDAR
VERSION:2.0
PRODID:-//Executive Women&#039;s Forum - ECPv6.15.20//NONSGML v1.0//EN
CALSCALE:GREGORIAN
METHOD:PUBLISH
X-WR-CALNAME:Executive Women&#039;s Forum
X-ORIGINAL-URL:https://www.ewfglobal.com
X-WR-CALDESC:Events for Executive Women&#039;s Forum
REFRESH-INTERVAL;VALUE=DURATION:PT1H
X-Robots-Tag:noindex
X-PUBLISHED-TTL:PT1H
BEGIN:VTIMEZONE
TZID:America/New_York
BEGIN:DAYLIGHT
TZOFFSETFROM:-0500
TZOFFSETTO:-0400
TZNAME:EDT
DTSTART:20250309T070000
END:DAYLIGHT
BEGIN:STANDARD
TZOFFSETFROM:-0400
TZOFFSETTO:-0500
TZNAME:EST
DTSTART:20251102T060000
END:STANDARD
BEGIN:DAYLIGHT
TZOFFSETFROM:-0500
TZOFFSETTO:-0400
TZNAME:EDT
DTSTART:20260308T070000
END:DAYLIGHT
BEGIN:STANDARD
TZOFFSETFROM:-0400
TZOFFSETTO:-0500
TZNAME:EST
DTSTART:20261101T060000
END:STANDARD
BEGIN:DAYLIGHT
TZOFFSETFROM:-0500
TZOFFSETTO:-0400
TZNAME:EDT
DTSTART:20270314T070000
END:DAYLIGHT
BEGIN:STANDARD
TZOFFSETFROM:-0400
TZOFFSETTO:-0500
TZNAME:EST
DTSTART:20271107T060000
END:STANDARD
END:VTIMEZONE
BEGIN:VTIMEZONE
TZID:America/Halifax
BEGIN:DAYLIGHT
TZOFFSETFROM:-0400
TZOFFSETTO:-0300
TZNAME:ADT
DTSTART:20250309T060000
END:DAYLIGHT
BEGIN:STANDARD
TZOFFSETFROM:-0300
TZOFFSETTO:-0400
TZNAME:AST
DTSTART:20251102T050000
END:STANDARD
BEGIN:DAYLIGHT
TZOFFSETFROM:-0400
TZOFFSETTO:-0300
TZNAME:ADT
DTSTART:20260308T060000
END:DAYLIGHT
BEGIN:STANDARD
TZOFFSETFROM:-0300
TZOFFSETTO:-0400
TZNAME:AST
DTSTART:20261101T050000
END:STANDARD
BEGIN:DAYLIGHT
TZOFFSETFROM:-0400
TZOFFSETTO:-0300
TZNAME:ADT
DTSTART:20270314T060000
END:DAYLIGHT
BEGIN:STANDARD
TZOFFSETFROM:-0300
TZOFFSETTO:-0400
TZNAME:AST
DTSTART:20271107T050000
END:STANDARD
END:VTIMEZONE
BEGIN:VTIMEZONE
TZID:America/Denver
BEGIN:DAYLIGHT
TZOFFSETFROM:-0700
TZOFFSETTO:-0600
TZNAME:MDT
DTSTART:20250309T090000
END:DAYLIGHT
BEGIN:STANDARD
TZOFFSETFROM:-0600
TZOFFSETTO:-0700
TZNAME:MST
DTSTART:20251102T080000
END:STANDARD
BEGIN:DAYLIGHT
TZOFFSETFROM:-0700
TZOFFSETTO:-0600
TZNAME:MDT
DTSTART:20260308T090000
END:DAYLIGHT
BEGIN:STANDARD
TZOFFSETFROM:-0600
TZOFFSETTO:-0700
TZNAME:MST
DTSTART:20261101T080000
END:STANDARD
BEGIN:DAYLIGHT
TZOFFSETFROM:-0700
TZOFFSETTO:-0600
TZNAME:MDT
DTSTART:20270314T090000
END:DAYLIGHT
BEGIN:STANDARD
TZOFFSETFROM:-0600
TZOFFSETTO:-0700
TZNAME:MST
DTSTART:20271107T080000
END:STANDARD
END:VTIMEZONE
BEGIN:VTIMEZONE
TZID:Asia/Kolkata
BEGIN:STANDARD
TZOFFSETFROM:+0530
TZOFFSETTO:+0530
TZNAME:IST
DTSTART:20250101T000000
END:STANDARD
END:VTIMEZONE
BEGIN:VTIMEZONE
TZID:America/Los_Angeles
BEGIN:DAYLIGHT
TZOFFSETFROM:-0800
TZOFFSETTO:-0700
TZNAME:PDT
DTSTART:20250309T100000
END:DAYLIGHT
BEGIN:STANDARD
TZOFFSETFROM:-0700
TZOFFSETTO:-0800
TZNAME:PST
DTSTART:20251102T090000
END:STANDARD
BEGIN:DAYLIGHT
TZOFFSETFROM:-0800
TZOFFSETTO:-0700
TZNAME:PDT
DTSTART:20260308T100000
END:DAYLIGHT
BEGIN:STANDARD
TZOFFSETFROM:-0700
TZOFFSETTO:-0800
TZNAME:PST
DTSTART:20261101T090000
END:STANDARD
BEGIN:DAYLIGHT
TZOFFSETFROM:-0800
TZOFFSETTO:-0700
TZNAME:PDT
DTSTART:20270314T100000
END:DAYLIGHT
BEGIN:STANDARD
TZOFFSETFROM:-0700
TZOFFSETTO:-0800
TZNAME:PST
DTSTART:20271107T090000
END:STANDARD
END:VTIMEZONE
BEGIN:VEVENT
DTSTART;TZID=America/New_York:20260305T130000
DTEND;TZID=America/New_York:20260305T140000
DTSTAMP:20260421T143743
CREATED:20260206T143330Z
LAST-MODIFIED:20260226T212026Z
UID:4030-1772715600-1772719200@www.ewfglobal.com
SUMMARY:EWF Forums CONNECT Networking Series - BISO Forum
DESCRIPTION:Register\n\n\n\n\n\n\n \n	\n		\n						\n							This event is only open to EWF Connect members. You must sign in to register. \n			\n			\n							  \nEWF Forum CONNECT Networking Series\nThe BISO Forum\nJoin us for an EWF Forum CONNECT Networking Series event — featuring the BISO Forum. This is an opportunity to connect and network with other EWF Connect members who hold a BISO role or are interested in pursuing a BISO role within cybersecurity\, risk management\, compliance\, audit\, or privacy. Networking events offer the opportunity to build professional relationships\, exchange ideas\, and collaborate on solutions. The event will use a crowdsourced format\, featuring topics generated by attendee input and feedback. \nCome ready to meet and interact with your peers in small breakout discussions. We encourage everyone to enable their cameras for the event. \nThe BISO Forum is an empowering community for women BISOs to share expertise\, build trusting relationships\, support each other’s personal and professional success\, and accelerate the realization of the BISO role within their organization and the industry. \n\nAbout the BISO Forum\nThe EWF BISO Forum offers women in Business Information Security Officer (BISO) and BISO-like roles an empowering space to grow personally and professionally\, tackle challenges in real-time\, and explore future trends in the industry. Through webinars\, in-person and virtual networking events\, peer-to-peer activities\, and online groups and resources\, subscribers will have the opportunity to learn\, evolve\, and collaborate with one another. \nIf you are interested in joining the BISO Forum\, please complete the interest form on our website.
URL:https://www.ewfglobal.com/event-details/ewf-forums-connect-networking-series-biso-forum-3/
CATEGORIES:Forums,Networking,Virtual
ATTACH;FMTTYPE=image/png:https://www.ewfglobal.com/wp-content/uploads/2026/02/1.png
END:VEVENT
BEGIN:VEVENT
DTSTART;TZID=America/New_York:20260310T100000
DTEND;TZID=America/New_York:20260310T110000
DTSTAMP:20260421T143743
CREATED:20260128T172404Z
LAST-MODIFIED:20260129T181746Z
UID:3971-1773136800-1773140400@www.ewfglobal.com
SUMMARY:2026 Annual Conference Call for Speakers Info Session
DESCRIPTION:Register\n\n\n\n\n\n\n \n	\n		\n						\n			\n			\n							\n\nJoin Diana Kelley\, Technical Conference Chair and Linda Dolceamore\, Leadership Conference Chair as they guide you through the proposal submission process for the 2026 Annual Conference Call for Speakers. \nIn this info session\, you’ll learn about the various presentation formats — including single and multi-speaker presentations\, panel discussions\, workshops\, wisdom circles\, and lightning talks — as well as the key topics that will be top of mind for the 2026 Annual Conference audience. The session will also walk through the submission process and share tips to help ensure your proposal is well-prepared for evaluation. \nWe are seeking knowledgeable women who can passionately and effectively share their subject matter expertise\, real-world experiences\, tools\, and templates with Annual Conference attendees. \n\n					\n							\n								\n				\n\n\n\n\n\n	\n		\n			Conference Chairs\n		\n		\n			\n				\n											\n							\n								\n																	\n																\n								Diana Kelley\n								Chief Information Security Officer | Noma Security  Technical Conference Chair\n							\n						\n											\n							\n								\n																	\n																\n								Linda Dolceamore\n								Chief Leadership Development Officer | Executive Women’s Forum  Leadership Conference Chair\n							\n						\n									\n			\n		\n	\n\n\n\n\n\n\n\n\nRegister
URL:https://www.ewfglobal.com/event-details/2026-annual-conference-call-for-speakers-info-session/
CATEGORIES:Conference,Informational Webinar,Virtual
ATTACH;FMTTYPE=image/png:https://www.ewfglobal.com/wp-content/uploads/2026/01/Call-for-speakers-info-session.png
END:VEVENT
BEGIN:VEVENT
DTSTART;TZID=America/New_York:20260311T173000
DTEND;TZID=America/New_York:20260311T190000
DTSTAMP:20260421T143743
CREATED:20260112T191029Z
LAST-MODIFIED:20260128T163014Z
UID:3787-1773250200-1773255600@www.ewfglobal.com
SUMMARY:Louisville\, KY Networking Event
DESCRIPTION:Register\n\n\n\n\n\n\n \n	\n		\n						\n			\n			\n							Join us in Louisville\, KY for an evening of casual networking and meaningful connection. This after-work gathering brings together professionals from across the community for engaging conversation in a relaxed\, welcoming setting. \nWe’ll gather at Noble Funk Brewing Company\, a local favorite known for its inviting atmosphere and laid-back vibe. Light appetizers will be provided\, and beverages will be available for purchase throughout the evening—creating the perfect backdrop for easy conversation and new connections. \nWhether you’re looking to expand your network\, exchange ideas\, or simply unwind after the workday\, we invite you to join us for an enjoyable evening of great company and conversation. \n\n					\n							\n								\n				\n\n\n\n\n\n	\n		\n			Networking Hosts\n		\n		\n			\n				\n											\n							\n								\n																	\n																\n								Sherry Boesch\n								Lead\, Cybersecurity Advocacy | Humana\n							\n						\n											\n							\n								\n																	\n																\n								Tracy Geiger\n								Director Cyber Security Governance | Humana\n							\n						\n											\n							\n								\n																	\n																\n								Laura Rawlings\n								Senior Director Strategy & Governance | Verizon\n							\n						\n											\n							\n								\n																	\n																\n								Christie Wilder\n								Associate Director\, Client Security Assurance | EY
URL:https://www.ewfglobal.com/event-details/louisville-ky-networking-event/
CATEGORIES:In-Person,Networking
ATTACH;FMTTYPE=image/png:https://www.ewfglobal.com/wp-content/uploads/2026/01/Louisville_-KY-3.11-1.png
END:VEVENT
BEGIN:VEVENT
DTSTART;TZID=America/Halifax:20260318T100000
DTEND;TZID=America/Halifax:20260318T113000
DTSTAMP:20260421T143743
CREATED:20260122T174026Z
LAST-MODIFIED:20260317T195958Z
UID:3893-1773828000-1773833400@www.ewfglobal.com
SUMMARY:Microlearning Workshop - Managing Your Biggest Insider Threat: The Confidence Game
DESCRIPTION:Register\n\n\n\n\n\n\n\n\n\n\n \n	\n		\n						\n			\n			\n							Microlearning Workshop\nManaging Your Biggest Insider Threat: The Confidence Game\nThis program elevates participants’ awareness of internal confidence hacks and shows them how to restore and strengthen self-confidence to make positive life changes. We will focus on minimizing the fears and inner thoughts that undermine self-confidence and amplifying the inner voice that speaks to their greatness. Our facilitator will empower participants to cultivate what is best within them to enhance their lives and success. \nBy strengthening confidence at the individual level\, this workshop fuels action\, accountability\, and leadership effectiveness across organizations. Employees who trust their voices speak up sooner and contribute more fully\, leading to meaningful contributions and elevated results. \nCPE certified for 1.50 ISC2 credits and 1.75 ISACA credits. \n  \nCost: $349 USD per session* \n*Registration codes may be available for EWF Benefactor Companies and individual members to attend at no cost. If you are affiliated with an EWF Benefactor Company please contact your Champion representative to see if a code is available. Individual members will receive a code for one session from the EWF team. For assistance\, contact info@ewfglobal.com. \n\n					\n							\n								\n				\n\n\n\n\n\n\n\n\n\n	\n		\n			Facilitator\n		\n		\n			\n				\n											\n							\n								\n																	\n																\n								Linda Dolceamore\n								Chief Leadership Development Officer | Executive Women’s Forum\n							\n						\n									\n			\n		\n	\n\n\n\n\n\n\n\n\nRegister
URL:https://www.ewfglobal.com/event-details/microlearning-workshop-managing-your-biggest-insider-threat/
CATEGORIES:Continuing Education Credits,Leadership Academy Class,Virtual
ATTACH;FMTTYPE=image/png:https://www.ewfglobal.com/wp-content/uploads/2026/01/Microlearning-workshops-invest-in-your-team.png
END:VEVENT
BEGIN:VEVENT
DTSTART;TZID=America/New_York:20260319T150000
DTEND;TZID=America/New_York:20260319T160000
DTSTAMP:20260421T143743
CREATED:20251204T152810Z
LAST-MODIFIED:20251215T144728Z
UID:3745-1773932400-1773936000@www.ewfglobal.com
SUMMARY:EWF Community Onboarding Session
DESCRIPTION:Register\n\n\n\n\n\n\n \n	\n		\n						\n			\n			\n							Join the EWF Engagement Team for a dynamic onboarding session designed to help you make the most of your EWF membership!\nWhether you’re brand new to the EWF community or looking to deepen your involvement\, this interactive session will walk you through the full spectrum of membership benefits\, exclusive programs\, and networking opportunities available to you. You’ll learn how to navigate our platform\, connect with other members\, participate in both in person and virtual events\, and access our leadership development resources. \nCome with your questions and curiosity—we’re here to help you feel informed\, empowered\, and excited to engage with the EWF community! \nUnable to join us this month? No problem — this event happens monthly!  Click here to view future dates. \n\nAll attendees must be signed in to register; if you don’t have a membership seat\, you’re welcome to create a free guest account.
URL:https://www.ewfglobal.com/event-details/ewf-community-onboarding/
CATEGORIES:Informational Webinar,Networking,Virtual
ATTACH;FMTTYPE=image/png:https://www.ewfglobal.com/wp-content/uploads/2025/08/9.30-EWF-Community-Onboarding-Session.png
END:VEVENT
BEGIN:VEVENT
DTSTART;TZID=America/Denver:20260323T080000
DTEND;TZID=America/Denver:20260326T170000
DTSTAMP:20260421T143743
CREATED:20251124T171513Z
LAST-MODIFIED:20260311T153602Z
UID:3716-1774252800-1774544400@www.ewfglobal.com
SUMMARY:RSAC™ 2026 Conference
DESCRIPTION:Register\n\n\n\n\n\n\n \n	\n		\n						\n			\n							Secure Your Spot at RSAC 2026\n			\n							Join thousands of your peers at RSAC™ 2026 Conference in San Francisco from March 23–26\, and visit the EWF team at Booth #N-5376. \nDiscover new strategies\, explore bold technologies\, and connect with peers who share your challenges and ambitions. Don’t just attend the Conference—be part of the community that defines what’s next. \nEWF CONNECT Members\, you unlock exclusive savings of $150 discount on an All Access Pass!\nSign into the EWF CONNECT portal to see the code. \n \n  \n\n					\n							\n				\nRegister Now
URL:https://www.ewfglobal.com/event-details/rsac-2026-conference/
CATEGORIES:Conference,Continuing Education Credits,In-Person,Industry Event,Networking
ATTACH;FMTTYPE=image/png:https://www.ewfglobal.com/wp-content/uploads/2025/11/booth-info-1.png
END:VEVENT
BEGIN:VEVENT
DTSTART;TZID=Asia/Kolkata:20260325T101500
DTEND;TZID=Asia/Kolkata:20260325T120000
DTSTAMP:20260421T143743
CREATED:20260313T200435Z
LAST-MODIFIED:20260324T161240Z
UID:4432-1774433700-1774440000@www.ewfglobal.com
SUMMARY:Bangalore Regional | Strategies for Advancing Women in Financial Services
DESCRIPTION:Registration is now closed. Visit our Events Calendar to discover more ways to connect and get involved. \n			\n			\n							  \nStrategies for Advancing Women in Financial Services\nHosted by CME Group\nThe Executive Women’s Forum (EWF) invites you to an exclusive panel discussion dedicated to accelerating your journey from entry level to middle management up through executive leadership. We are gathering to share the proven strategies and insights that help women advance in their careers. \nJoin us as we discuss practical steps for career progression  and navigate the unique corporate landscape in financial services and technology industries. \nWhy Attend? \nLearn practical frameworks for how to identify and engage mentors and sponsors. Equip yourself with the strategic insights and navigation tools used by top executives to clear the path for career advancement. Network with top industry leaders and peers in the Bangalore ecosystem. \nCPE certified for 1.50 ISC2 credits and 1.75 ISACA credits. \n\n					\n							\n								\n				\n\n\n\n\n\n\n\nEvent Agenda\n\n\n\n\n\n\n \n	\n		\n			\n									10:15 – 10:30 AM \n				\n									Onsite Registration \n				\n				\n				\n				\n			\n									10:30 – 10:35 AM \n				\n									Welcome and Opening Remarks \n				\n									Neha Agarwal \nManager\, Product Launch at CME Group leading the strategic rollout of diverse derivative and cash products in Futures\, Options\, Spot FX (EBS)\, Fixed Income (BrokerTec) and Predictions Markets ensuring seamless integration into the global electronic trading ecosystem. \nSuvarna  Sandeep \nDirector\, Product Owner at CME Group Clearing and Post Trade  Product Management\, in the Reference Data Domain\, playing a role as the bridge between  business strategy\, user needs\, and the technical development team. \n\n				\n				\n				\n			\n									10:35 – 11:50 AM \n				\n									Panel Discussion \n				\n									Shalini SankarshanaManaging Director and Country Manager at Planview India\, a seasoned software product leader with over 20 years of experience in scaling enterprise platforms for premier financial institutions. \nLalitha SatheeshManaging Director at Accenture and a prominent advocate for women in technology\, currently serving as the SheLeadsTech Director for the ISACA Bangalore Chapter. \nJyothirmayee JTFounder of HiveMinds\, a leading performance agency she scaled from a bootstrapped startup to a market powerhouse managing over ₹1\,500 crore in media spends. A self-taught marketer and prominent angel investor\, she is recognized as one of the most influential women in India’s digital and media landscape. \nPrabhuram DuraiswamiManaging Director\, Center Head of India\, and Global Head of Referential Services at CME Group\, leading strategic operations and talent growth for the world’s leading derivatives marketplace. \nModerated By : Allyson ZollerSenior Director\, Global Head IT Compliance and Tech Controls at CME Group\, CME Group EWF Ambassador\, Board President for ISACA Chicago Chapter and SheLeadsTech Ambassador and Mentor. \n\n				\n				\n				\n			\n									11:50 AM – 12:00 PM \n				\n									Closing Remarks and Vote of Thanks \n				\n									Anuradha Chakravarthy \nDirector\, Global Information Security. A fervent advocate for advancing women in technology\, committed to cultivating diverse teams that serve as catalysts for innovation.
URL:https://www.ewfglobal.com/event-details/bangalore-regional-cme-group/
CATEGORIES:Continuing Education Credits,In-Person,Networking
ATTACH;FMTTYPE=image/png:https://www.ewfglobal.com/wp-content/uploads/2026/03/India-Regional-3.25.png
END:VEVENT
BEGIN:VEVENT
DTSTART;TZID=America/Los_Angeles:20260325T120000
DTEND;TZID=America/Los_Angeles:20260325T133000
DTSTAMP:20260421T143743
CREATED:20260107T181107Z
LAST-MODIFIED:20260311T204111Z
UID:3776-1774440000-1774445400@www.ewfglobal.com
SUMMARY:2026 Leadership Exchange Luncheon at RSAC™ sponsored by PwC
DESCRIPTION:Register\n\n\n\n\nRegistration confirms your interest in attending; however\, seating and meal will be available on a first-come\, first-served basis. \n\n\n\n\n\n \n	\n		\n						\n			\n			\n							\nLeadership Exchange Luncheon at RSAC™\nBreaking Barriers in Cyber: Real-World Stories\nSponsored by PwC\n  \nJoin two notable women in cybersecurity – Morgan Adamski\, Deputy Platform Leader\, Cyber\, Data\, and Tech Risk\, PwC US; and Vasu Jakkal\, Corporate Vice President\, Microsoft Security – for lunch and conversation. Drawing from their diverse backgrounds in government and industry\, Morgan and Vasu share how their unique perspectives enhance innovation in the cyber landscape. Join us as they discuss challenges they’ve faced\, strategies for driving growth and leadership\, and how diversity continues to strengthen the cybersecurity community\, in a conversation moderated by Stephanie Mosticchio\, US and Global Microsoft Alliance Leader\, PwC US. You’ll be inspired and empowered by these two real-world journeys to cyber leadership. \nPlease note you must be registered to attend RSAC in-person in order to attend this luncheon. \nRegistration confirms your interest in attending; however\, seating and meal will be available on a first-come\, first-served basis. \n\n					\n							\n								\n				\n\n\n\n\n\n\n\nEvent Agenda\n\n\n\n\n\n\n \n	\n		\n			\n									12:00 – 12:45 PM \n				\n									Networking Lunch  \n				\n				\n				\n				\n			\n									12:45 – 1:30 PM \n				\n									Panel Discussion | Breaking Barriers in Cyber: Real-World Stories \n				\n				\n									\n													Morgan Adamski – Principal | PwC \n													Vasu Jakkal – Corporate Vice President | Microsoft Security Business \n													Moderator: Stephanie Mosticchio – Principal\, US and Global Microsoft Alliance Leader | PwC \n										 					\n				\n				\n					\n	\n\n\n\n\n\n	\n		\n			Speakers\n		\n		\n			\n				\n											\n							\n								\n																	\n																\n								Morgan Adamski\n								Principal | PwC\n							\n						\n											\n							\n								\n																	\n																\n								Joyce Brocaglia\n								CEO and Founder | Executive Women’s Forum\n							\n						\n											\n							\n								\n																	\n																\n								Vasu Jakkal\n								Corporate Vice President | Microsoft Security Business\n							\n						\n											\n							\n								\n																	\n																\n								Stephanie Mosticchio\n								Principal\, US and Global Microsoft Alliance Leader | PwC\n							\n						\n											\n							\n								\n																	\n																\n								Tonya Ugoretz\n								Managing Director | PwC\n							\n						\n									\n			\n		\n	\n\n\n\n\n\n\n\n\nRegister\n\n\n\n\n\n\n\n\nRegistration confirms your interest in attending; however\, seating and meal will be available on a first-come\, first-served basis.
URL:https://www.ewfglobal.com/event-details/rsac-2026-luncheon-sponsored-by-pwc/
CATEGORIES:In-Person,Industry Event,Networking
ATTACH;FMTTYPE=image/png:https://www.ewfglobal.com/wp-content/uploads/2026/01/EWF-RSAC-2026-Luncheon.png
END:VEVENT
END:VCALENDAR