BEGIN:VCALENDAR
VERSION:2.0
PRODID:-//Executive Women&#039;s Forum - ECPv6.15.20//NONSGML v1.0//EN
CALSCALE:GREGORIAN
METHOD:PUBLISH
X-WR-CALNAME:Executive Women&#039;s Forum
X-ORIGINAL-URL:https://www.ewfglobal.com
X-WR-CALDESC:Events for Executive Women&#039;s Forum
REFRESH-INTERVAL;VALUE=DURATION:PT1H
X-Robots-Tag:noindex
X-PUBLISHED-TTL:PT1H
BEGIN:VTIMEZONE
TZID:America/Halifax
BEGIN:DAYLIGHT
TZOFFSETFROM:-0400
TZOFFSETTO:-0300
TZNAME:ADT
DTSTART:20250309T060000
END:DAYLIGHT
BEGIN:STANDARD
TZOFFSETFROM:-0300
TZOFFSETTO:-0400
TZNAME:AST
DTSTART:20251102T050000
END:STANDARD
BEGIN:DAYLIGHT
TZOFFSETFROM:-0400
TZOFFSETTO:-0300
TZNAME:ADT
DTSTART:20260308T060000
END:DAYLIGHT
BEGIN:STANDARD
TZOFFSETFROM:-0300
TZOFFSETTO:-0400
TZNAME:AST
DTSTART:20261101T050000
END:STANDARD
BEGIN:DAYLIGHT
TZOFFSETFROM:-0400
TZOFFSETTO:-0300
TZNAME:ADT
DTSTART:20270314T060000
END:DAYLIGHT
BEGIN:STANDARD
TZOFFSETFROM:-0300
TZOFFSETTO:-0400
TZNAME:AST
DTSTART:20271107T050000
END:STANDARD
END:VTIMEZONE
BEGIN:VEVENT
DTSTART;TZID=America/Halifax:20260804T100000
DTEND;TZID=America/Halifax:20260804T113000
DTSTAMP:20260421T192325
CREATED:20260226T192621Z
LAST-MODIFIED:20260330T133632Z
UID:4121-1785837600-1785843000@www.ewfglobal.com
SUMMARY:The Leader Within - Launch August 2026 - Enrollment Fee Required
DESCRIPTION:Register\n\n\n\n\n\n\n \n	\n		\n						\n							Enrollment Deadline: Monday\, August 3\, 2026 — space is limited and enrollment will close once the class is full. \n			\n			\n							\nEnrollment Now Open: The Leader Within\nBecome a stronger\, more resilient leader\nThe Leader Within is a transformational leadership development experience designed to help you recognize and optimize your individual strengths\, strengthen your authentic leadership presence\, confidently contribute within your organization\, and connect with a lifelong global network of professional peers. \n\nProgram Schedule\nClass orientation scheduled for Tuesday\, August 4\, 2026 from 10:00 AM – 11:30 AM EST/4:00 PM – 5:30 PM CET.\nClass schedule (all times from 10:00 AM – 11:30 AM EST/4:00 PM – 5:30 PM CET) \n\nModule 1: Tuesday\, August 25\nModule 2: Tuesday\, September 15\nModule 3: Tuesday\, October 6\nModule 4: Tuesday\, October 27\nModule 5: Tuesday\, November 10\nModule 6: Tuesday\, December 1\n\n\nClass dates and times are subject to change. \n\n\nEnrollment & Pricing\nEnrollment fee required. Space is limited. \nOpen Enrollment Pricing \n\n\nNon-Benefactor Rate: $3\,895 \n\n\nBenefactor Rate: $3\,295 \n\n\nIf you are from an EWF Benefactor company\, please use promo code TLW600 at checkout to receive the benefactor rate. \nPlease note: Enrollment is non-refundable. \n 
URL:https://www.ewfglobal.com/event-details/the-leader-within-launch-august-2026-enrollment-fee-required/
CATEGORIES:Continuing Education Credits,Leadership Academy Class,Virtual
ATTACH;FMTTYPE=image/png:https://www.ewfglobal.com/wp-content/uploads/2026/02/10.png
END:VEVENT
BEGIN:VEVENT
DTSTART;TZID=America/Halifax:20260819T130000
DTEND;TZID=America/Halifax:20260819T140000
DTSTAMP:20260421T192325
CREATED:20260403T163308Z
LAST-MODIFIED:20260403T163720Z
UID:4610-1787144400-1787148000@www.ewfglobal.com
SUMMARY:EWF Community Onboarding Session
DESCRIPTION:Register\n\n\n\n\n\n\n \n	\n		\n						\n			\n			\n							Join the EWF Engagement Team for a dynamic onboarding session designed to help you make the most of your EWF membership!\nWhether you’re brand new to the EWF community or looking to deepen your involvement\, this interactive session will walk you through the full spectrum of membership benefits\, exclusive programs\, and networking opportunities available to you. You’ll learn how to navigate our platform\, connect with other members\, participate in both in person and virtual events\, and access our leadership development resources. \nCome with your questions and curiosity—we’re here to help you feel informed\, empowered\, and excited to engage with the EWF community! \nUnable to join us this month? No problem — this event happens monthly!  Click here to view future dates. \n\nAll attendees must be signed in to register; if you don’t have a membership seat\, you’re welcome to create a free guest account.
URL:https://www.ewfglobal.com/event-details/ewf-community-onboarding-session-11/
CATEGORIES:Informational Webinar,Networking,Virtual
ATTACH;FMTTYPE=image/png:https://www.ewfglobal.com/wp-content/uploads/2025/08/9.30.25-EWF-Community-Onboarding-Session.png
END:VEVENT
END:VCALENDAR