BEGIN:VCALENDAR
VERSION:2.0
PRODID:-//Executive Women&#039;s Forum - ECPv6.15.20//NONSGML v1.0//EN
CALSCALE:GREGORIAN
METHOD:PUBLISH
X-WR-CALNAME:Executive Women&#039;s Forum
X-ORIGINAL-URL:https://www.ewfglobal.com
X-WR-CALDESC:Events for Executive Women&#039;s Forum
REFRESH-INTERVAL;VALUE=DURATION:PT1H
X-Robots-Tag:noindex
X-PUBLISHED-TTL:PT1H
BEGIN:VTIMEZONE
TZID:America/Halifax
BEGIN:DAYLIGHT
TZOFFSETFROM:-0400
TZOFFSETTO:-0300
TZNAME:ADT
DTSTART:20250309T060000
END:DAYLIGHT
BEGIN:STANDARD
TZOFFSETFROM:-0300
TZOFFSETTO:-0400
TZNAME:AST
DTSTART:20251102T050000
END:STANDARD
BEGIN:DAYLIGHT
TZOFFSETFROM:-0400
TZOFFSETTO:-0300
TZNAME:ADT
DTSTART:20260308T060000
END:DAYLIGHT
BEGIN:STANDARD
TZOFFSETFROM:-0300
TZOFFSETTO:-0400
TZNAME:AST
DTSTART:20261101T050000
END:STANDARD
BEGIN:DAYLIGHT
TZOFFSETFROM:-0400
TZOFFSETTO:-0300
TZNAME:ADT
DTSTART:20270314T060000
END:DAYLIGHT
BEGIN:STANDARD
TZOFFSETFROM:-0300
TZOFFSETTO:-0400
TZNAME:AST
DTSTART:20271107T050000
END:STANDARD
END:VTIMEZONE
BEGIN:VEVENT
DTSTART;TZID=America/Halifax:20260421T140000
DTEND;TZID=America/Halifax:20260421T150000
DTSTAMP:20260421T130731
CREATED:20251209T155236Z
LAST-MODIFIED:20260407T175709Z
UID:3753-1776780000-1776783600@www.ewfglobal.com
SUMMARY:EWF Community Onboarding Session
DESCRIPTION:Register\n\n\n\n\n\n\n \n	\n		\n						\n			\n			\n							Join the EWF Engagement Team for a dynamic onboarding session designed to help you make the most of your EWF membership!\nWhether you’re brand new to the EWF community or looking to deepen your involvement\, this interactive session will walk you through the full spectrum of membership benefits\, exclusive programs\, and networking opportunities available to you. You’ll learn how to navigate our platform\, connect with other members\, participate in both in person and virtual events\, and access our leadership development resources. \nDuring this month’s session\, Ebony King\, Senior Program Coordinator at EWF\, will provide an overview of the Lift Mentoring Program\, including information on how to enroll in the upcoming Summer session\, which opens for enrollment on May 4. \nCome with your questions and curiosity—we’re here to help you feel informed\, empowered\, and excited to engage with the EWF community! \nUnable to join us this month? No problem — this event happens monthly!  Click here to view future dates.
URL:https://www.ewfglobal.com/event-details/ewf-community-onboarding-session-7/
CATEGORIES:Informational Webinar,Networking,Virtual
ATTACH;FMTTYPE=image/png:https://www.ewfglobal.com/wp-content/uploads/2025/08/10.30-EWF-Forums-CONNECT-Networking-Series-Emerging-Leaders-Forum.png
END:VEVENT
BEGIN:VEVENT
DTSTART;TZID=America/Halifax:20260422T110000
DTEND;TZID=America/Halifax:20260422T114500
DTSTAMP:20260421T130731
CREATED:20260323T153222Z
LAST-MODIFIED:20260325T194645Z
UID:4503-1776855600-1776858300@www.ewfglobal.com
SUMMARY:Unlock Your Leadership Development Path – Which Path Is Right for You?
DESCRIPTION:Register\n\n\n\n\n\n\n\n\n\n\n\n\n\n\n \n	\n		\n						\n			\n			\n							Unlock Your Leadership Development Path – Which Path Is Right for You?\nDiscover the leadership path that will accelerate your growth and impact. Not all leadership development paths deliver the same results. The key is understanding which path aligns with your goals\, your role\, and the level of impact you’re ready to make.\n\nChoosing the right leadership development path starts with understanding your options. In this session\, you’ll receive a comprehensive overview of EWF’s leadership development classes\, including which programs are designed for each stage of leadership growth. This overview will provide the foundation for identifying the path that will best accelerate your impact and align with your goals.\n\nWe’ll also share 15 minutes of actionable leadership insights and real-world examples. You’ll gain guidance on success patterns\, or practical frameworks to help you prioritize development opportunities that will deliver the greatest results.\n\n\nWhat you’ll learn:\n– The different EWF leadership development paths and who they are designed for\n– Lessons from real-world leadership experiences to guide your decisions\n– How to connect your growth goals to the right development opportunities\n– How to align development with organizational priorities and secure approval for enrollment \nFollowing the webinar\, you’ll receive the Find Your Leadership Development Path Assessment\, designed to help you identify which leadership development program(s) align best with your goals and strengths. \nYou’ll also gain access to a Business Case Builder for Leadership Development\, a practical guide that helps you align your growth to business priorities\, frame a compelling case for your manager\, anticipate questions\, and confidently secure approval for enrollment in your chosen program. \n\n\n\n					\n							\n								\n				\n\n\n\n\n\n	\n		\n			Facilitator\n		\n		\n			\n				\n											\n							\n								\n																	\n																\n								Linda Dolceamore\n								Chief Leadership Development Officer | Executive Women’s Forum\n							\n						\n									\n			\n		\n	\n\n\n\n\n\n\n\n\nRegister
URL:https://www.ewfglobal.com/event-details/unlock-your-leadership-development-path/
CATEGORIES:Virtual
ATTACH;FMTTYPE=image/png:https://www.ewfglobal.com/wp-content/uploads/2026/03/Microlearning-workshops-invest-in-your-team.png
END:VEVENT
BEGIN:VEVENT
DTSTART;TZID=America/Halifax:20260428T140000
DTEND;TZID=America/Halifax:20260428T180000
DTSTAMP:20260421T130731
CREATED:20260319T175034Z
LAST-MODIFIED:20260414T191238Z
UID:4491-1777384800-1777399200@www.ewfglobal.com
SUMMARY:New York City Regional | Igniting Change: Leadership\, Risk\, and Resilience in the Age of AI
DESCRIPTION:Register\n\n\n\n\n\n\n \n	\n		\n						\n							Registration Deadline: Sunday\, April 26  or until space is full. \n			\n			\n							\n  \nNew York City Regional | Igniting Change: Leadership\, Risk\, and Resilience in the Age of AI\nHosted by KPMG\, Google and JPMorganChase\n\nAs artificial intelligence becomes embedded across business operations\, it is rapidly reshaping how organizations engage with third parties and manage supply chain risk. From accelerating risk assessments to uncovering hidden dependencies\, AI is changing not only what leaders can see—but how they govern\, oversee\, and act. \nThis interactive event brings together industry leaders to explore the evolving intersection of AI\, third party risk\, and supply chain resilience. Through expert panels and hands on discussion\, participants will examine how AI is influencing risk identification\, monitoring\, and decision making across complex ecosystems—while also confronting the new governance\, accountability\, and leadership challenges that come with increased automation. \nThe first panel will focus on how AI is already impacting third party and supply chain risk management in practice\, highlighting emerging use cases\, opportunities\, and early lessons learned. The conversation will explore how AI is changing the speed\, scale\, and depth of insight organizations can achieve—and what that means for traditional risk management approaches. \nThe second panel will shift the lens to leadership and responsible adoption. Panelists will discuss the behaviors\, governance models\, and human in the loop practices required to ensure AI is used thoughtfully and effectively. Topics will include how leaders are redefining oversight\, balancing automation with human judgment\, and responding to new risks emerging across third party and supply chain relationships. \nThe session will conclude with a guided Glimmer Exercise and closing remarks which will be followed by an informal networking event. \nWho should attend: \nLeaders seeking practical insights into how AI is reshaping third party risk—and what effective leadership looks like in an AI enabled environment. \nThis event will be certified for 2.5 CPE/ISC2 credits and 3.0 ISACA credits. \n\n					\n							\n								\n				\n\n\n\n\n\n\n\nEvent Agenda\n\n\n\n\n\n\n \n	\n		\n			\n									2:00 – 2:30 PM \n				\n									Registration \n				\n				\n				\n				\n			\n									2:30 – 2:45 PM \n				\n									Welcome and Opening Remarks \n				\n				\n									\n													Joyce Brocaglia – CEO and Founder | Executive Women’s Forum \n										 					\n				\n				\n			\n									2:45 – 3:45 PM \n				\n									Panel 1: How is AI impacting Third Parties and Supply Chain \n				\n									This panel will explore the many ways AI is beginning to influence how organizations manage and understand their third party and supply chain ecosystems. Speakers will share perspectives on emerging opportunities\, evolving practices\, and how AI is starting to change the speed\, depth\, and nature of third party risk work. \n\n				\n									\n													Katie Boswell – Advisory Managing Director\, Cybersecurity & Technology Risk Services | KPMG \n													Dolly Singh – Managing Director\, Third Party Oversight | JPMorganChase \n													Mitushi Pitti – Global Client Operations Lead | Cranium \n													Moderator: Alisha Hummel  – Director\, Cyber Security Managed Services | KPMG  \n										 					\n				\n				\n			\n									3:45 – 4:00 PM \n				\n									Break \n				\n				\n				\n				\n			\n									4:00 – 4:45 PM \n				\n									Panel 2: Redefining Leadership for an AI‑Driven World \n				\n									This panel will explore how AI is changing the expectations for leaders—how they oversee new risks\, guide AI enabled teams\, and ensure the right balance between automation and human judgment. Speakers will share perspectives on the shifting role of leadership in an AI driven environment\, including how organizations are adapting to new challenges emerging across the third party and supply chain landscape. \n\n				\n									\n													Aisha Tahirkheli  – Principal\, AI&Digital Innovation & Trusted AI Leader \n													Alicja Cade – Senior Director\, Financial Services\, Advocacy\, Office of the CISO | Google Cloud \n													Simone Bachmann – Managing Director\, Cybersecurity & Technology Controls Strategy & Shared Services | JPMorganChase \n													Moderator: Marina Kaganovich – AMERS Financial Services Executive Trust Lead | Google Cloud Office of the CISO \n										 					\n				\n				\n			\n									4:45 – 5:00 PM \n				\n									Glimmer Exercise \n				\n				\n									\n													Linda Dolceamore – Chief Leadership Development Officer | Executive Women’s Forum \n										 					\n				\n				\n			\n									5:00 – 6:00 PM \n				\n									Networking \n				\n				\n				\n				\n					\n	\n\n\n\n\nRegister
URL:https://www.ewfglobal.com/event-details/nyc-regional-google-jpmorgan-chase-and-kpmg/
CATEGORIES:Continuing Education Credits,In-Person,Networking
ATTACH;FMTTYPE=image/png:https://www.ewfglobal.com/wp-content/uploads/2026/03/NYC-Regional-4.28-1.png
END:VEVENT
END:VCALENDAR